BEGIN:VCALENDAR
PRODID:-//eluceo/ical//2.0/EN
VERSION:2.0
CALSCALE:GREGORIAN
BEGIN:VEVENT
UID:52435e66f83b230027835d732ee7311d
DTSTAMP:20260425T163615Z
SUMMARY:Queer Bookclub: Around the Globe
DESCRIPTION:The Bookclub is back!\nAfter the success of last year and a wel
 l deserved rest period\, we want to bring back the bookclub. \n\nBooks for
  Queervolution is not the usual book club but a collaborative one. A gathe
 ring to discuss about queer topics\, following the words written by queer 
 people for queer people. There is not just one book assigned. Every partic
 ipant is invited to choose a book\, an article\, a zine or any text that t
 hey read and they find fitting to the topic.\n\n\nTopic of this month will
  be: Queers around the globe! 🌍\n\nThe focus will be on non-US/Europe b
 ooks and texts. We want to break the narrative for which queerness is some
 thing “new” and that lives only in modern US/Europe society. From nati
 ve american to african and asian authors. It is not just about geography: 
 your challenge is to find authors that speak outside of the “western”/
 colonizer mainstream queer culture.\n\n\nEveryone will have the opportunit
 y to present what they brought (giving some quotes from the text and expla
 ining what they find interesting about it) and it will be discussed togeth
 er\, combining different points of view and different sources in order to 
 enrich our collective knowledge.\n\nThere will be space for both fiction a
 nd non fiction. Bringing a book is not mandatory but strongly encouraged.\
 n\nDo you have any questions? Do you want suggestions on something to read
 ? Feel free to DM us on Instagram or send an email to info@queerrotterdam.
 nl\nAttendants are asked to follow our <u><a href="https://drive.google.co
 m/file/d/1F3EcRTGZ7aCwgBZ_P59NgUVaYnAYj8r6/view">code of conduct</a></u>.
URL:https://www.queerrotterdam.nl/user_events/347/user_events_join
DTSTART:20260428T190000
DTEND:20260428T213000
LOCATION:Teilingerstraat 120
END:VEVENT
END:VCALENDAR
